BEGIN:VCALENDAR
VERSION:2.0
PRODID:-//Pro(Pa)GIS - ECPv6.15.20//NONSGML v1.0//EN
CALSCALE:GREGORIAN
METHOD:PUBLISH
X-ORIGINAL-URL:https://pagis.npu.cz/wordpress
X-WR-CALDESC:Akce na Pro(Pa)GIS
REFRESH-INTERVAL;VALUE=DURATION:PT1H
X-Robots-Tag:noindex
X-PUBLISHED-TTL:PT1H
BEGIN:VTIMEZONE
TZID:Europe/Helsinki
BEGIN:DAYLIGHT
TZOFFSETFROM:+0200
TZOFFSETTO:+0300
TZNAME:EEST
DTSTART:20140330T010000
END:DAYLIGHT
BEGIN:STANDARD
TZOFFSETFROM:+0300
TZOFFSETTO:+0200
TZNAME:EET
DTSTART:20141026T010000
END:STANDARD
BEGIN:DAYLIGHT
TZOFFSETFROM:+0200
TZOFFSETTO:+0300
TZNAME:EEST
DTSTART:20150329T010000
END:DAYLIGHT
BEGIN:STANDARD
TZOFFSETFROM:+0300
TZOFFSETTO:+0200
TZNAME:EET
DTSTART:20151025T010000
END:STANDARD
BEGIN:DAYLIGHT
TZOFFSETFROM:+0200
TZOFFSETTO:+0300
TZNAME:EEST
DTSTART:20160327T010000
END:DAYLIGHT
BEGIN:STANDARD
TZOFFSETFROM:+0300
TZOFFSETTO:+0200
TZNAME:EET
DTSTART:20161030T010000
END:STANDARD
BEGIN:DAYLIGHT
TZOFFSETFROM:+0200
TZOFFSETTO:+0300
TZNAME:EEST
DTSTART:20170326T010000
END:DAYLIGHT
BEGIN:STANDARD
TZOFFSETFROM:+0300
TZOFFSETTO:+0200
TZNAME:EET
DTSTART:20171029T010000
END:STANDARD
BEGIN:DAYLIGHT
TZOFFSETFROM:+0200
TZOFFSETTO:+0300
TZNAME:EEST
DTSTART:20180325T010000
END:DAYLIGHT
BEGIN:STANDARD
TZOFFSETFROM:+0300
TZOFFSETTO:+0200
TZNAME:EET
DTSTART:20181028T010000
END:STANDARD
END:VTIMEZONE
BEGIN:VTIMEZONE
TZID:Europe/Paris
BEGIN:DAYLIGHT
TZOFFSETFROM:+0100
TZOFFSETTO:+0200
TZNAME:CEST
DTSTART:20160327T010000
END:DAYLIGHT
BEGIN:STANDARD
TZOFFSETFROM:+0200
TZOFFSETTO:+0100
TZNAME:CET
DTSTART:20161030T010000
END:STANDARD
BEGIN:DAYLIGHT
TZOFFSETFROM:+0100
TZOFFSETTO:+0200
TZNAME:CEST
DTSTART:20170326T010000
END:DAYLIGHT
BEGIN:STANDARD
TZOFFSETFROM:+0200
TZOFFSETTO:+0100
TZNAME:CET
DTSTART:20171029T010000
END:STANDARD
BEGIN:DAYLIGHT
TZOFFSETFROM:+0100
TZOFFSETTO:+0200
TZNAME:CEST
DTSTART:20180325T010000
END:DAYLIGHT
BEGIN:STANDARD
TZOFFSETFROM:+0200
TZOFFSETTO:+0100
TZNAME:CET
DTSTART:20181028T010000
END:STANDARD
END:VTIMEZONE
BEGIN:VEVENT
DTSTART;VALUE=DATE:20170322
DTEND;VALUE=DATE:20170325
DTSTAMP:20260423T103409
CREATED:20161221T114505Z
LAST-MODIFIED:20170124T182101Z
UID:1273-1490140800-1490399999@pagis.npu.cz
SUMMARY:GIS Ostrava 2017
DESCRIPTION:Konference GIS Ostrava 2017 aneb Geoinformatika v pohybu je zaměřena na aspekt času v prostorových datech a jejich poskytování.\nPořádá ji již tradičně VŠB – Technická univerzita Ostrava\, HGF\, Institut geoinformatiky\, a to pod zášitou České asociace pro geoinformace\, Slovenské asociácie pre geoinformatiku a (s ohledem na zaměření letošní konference) i SDT – Sdružení pro dopravní telematiku. \nZájemci o účast si mohou vybrat z řady temat: \n\nGeoInfoStrategie\, INSPIRE a infrastruktury pro prostorové informace\nGeoinformatika ve veřejné správě\nBig geodata\nReal-time geodata a real-time prostorové aplikace\nČasoprostorová data\, analýzy\, modelování a predikce\nKvalita prostorových dat\nProstorové databáze\nKomunitní data (crowdsourcing)\nOpen Source v geoinformatice\nProudy prostorových dat\nVývoj GIS aplikací\nMobilní řešení v GIS\nSmart cities\nSenzorové sítě\nCloudová řešení\nDálkový průzkum Země (vč. lidaru\, obrazové spektroskopie\, dostupnosti nových družicových dat\, UAV)\nGlobální polohové a navigační systémy\nVyužití území a dynamika změn\nInteligentní dopravní systémy a GI\nProstorové aspekty organizace dopravních služeb (logistika a další)\nGeoComputation (metody umělé inteligence\, strojového učení\, celulární automaty\, multiagentní systémy\, heuristiky\, fuzzy množiny\, genetické algoritmy)\nVizualizace a kartografie\nGeoinformatika pro sociální a humánní geografii\nGeoinformatika pro dopravní plánování\, modelování a optimalizace\nAplikace geoinformačních technologií v zemědělství a lesnictví\nAplikace geoinformačních technologií v meteorologii a hydrologii\nAplikace geoinformačních technologií v ochraně životního prostředí\nAplikace geoinformačních technologií v hornictví a geologii\nAplikace geoinformačních technologií v operačním a krizovém řízení\nVzdělávání a popularizace v oblasti GI science\nEtické\, bezpečnostní a legislativní otázky geoinformatiky\nNové trendy v geoinformatice\n\nKonferenční exkurze má zamířit do Dolní oblasti Vítkovic\, významné to industriální památky Ostravy.
URL:https://pagis.npu.cz/wordpress/event/gis-ostrava-2017/
LOCATION:Kongresové centrum VŠB-TUO\, 17. listopadu 2172/15\, Ostrava - Poruba\, 70800\, Česká republika
CATEGORIES:Konference a semináře
END:VEVENT
BEGIN:VEVENT
DTSTART;VALUE=DATE:20170214
DTEND;VALUE=DATE:20170216
DTSTAMP:20260423T103409
CREATED:20170120T154635Z
LAST-MODIFIED:20170124T192441Z
UID:1331-1487030400-1487203199@pagis.npu.cz
SUMMARY:Inspirujme se
DESCRIPTION:Po přestávce v roce 2016 si Vás CENIA\, česká informační agentura životního prostředí a Slovenská agentúra životného prostredia dovolují pozvat na 5. ročník česko-slovenské konference INSPIRUJME SE… udržitelností\, která je letos spojena s úvodní konferencí projektu ATTRACTIVE DANUBE\, realizovaného v rámci programu INTERREG DANUBE \n  \n 
URL:https://pagis.npu.cz/wordpress/event/inspirujme-se/
LOCATION:Park Inn Hotel Praha\, Svobodova 1961/1\, Praha\, Praha\, Česká republika
CATEGORIES:Konference a semináře
END:VEVENT
BEGIN:VEVENT
DTSTART;VALUE=DATE:20161116
DTEND;VALUE=DATE:20161117
DTSTAMP:20260423T103409
CREATED:20160815T134653Z
LAST-MODIFIED:20161101T201533Z
UID:613-1479254400-1479340799@pagis.npu.cz
SUMMARY:GIS Day 2016
DESCRIPTION:Letošní GIS Day připadá na 16. listopadu. Pokud nevite\, co je GIS Day\, česky Den geografických informačních systému\, podívejte se na stránky http://www.gisday.com/\, neznalí jazyka Shakespearova na Den GIS na stránkách ArcData Praha. \nNPÚ by se ho mělo zúčastnit navázáním na v podstatě již tradiční akci České kulturní dědictví v GIS. PaGIS a IISPP na této akci pochopitelně nemůže chybět. Na konkretní termín\, program a místo konání zavčas upozorníme. Ani tradiční perníčky by neměly chybět.
URL:https://pagis.npu.cz/wordpress/event/gis-day-2016/
CATEGORIES:GIS Day
END:VEVENT
BEGIN:VEVENT
DTSTART;TZID=Europe/Helsinki:20161115T100000
DTEND;TZID=Europe/Helsinki:20161115T170000
DTSTAMP:20260423T103409
CREATED:20161101T165635Z
LAST-MODIFIED:20161102T085250Z
UID:1168-1479204000-1479229200@pagis.npu.cz
SUMMARY:České kulturní dědictví v GIS V
DESCRIPTION:Většiny lidí se ptá zima\, co dělali v létě. Nás\, zapojených do tvorby památkového GIS čili PaGIS\, se ptá o něco dříve podzim na to\, co jsme  dělali celý rok. Blíží se totiž první výročí ode dne D (1.12.2015)\, kdy byl spuštěn Památkový katalog a s ním nový Geoportál památkové péče. Program pátého dne GIS pořádaného NPÚ pod tradičním názvem České kulturní dědictví v GIS\, bude tedy příležitostí k bilancování toho\, co nám první rok soužití s novými aplikacemi IISPP a úpravami aplikací staronových přinesl. Především chceme představit zájemcům z řad uživatelů IISPP i odborné veřejnosti\, k čemu všemu PaGIS a IISPP slouží\, jak a jaké informace o našem hmotném kulturním dědictví poskytuje i co se ještě chystá. \nPamátkový GIS day se koná 15. listopadu 2016 na níže uvedené adrese v salonku v 1. patře  budovy generálního ředitelství NPÚ na Valdštejnském náměstí v Praze; můžete se těšit i na příspěvky externích spolupracovníků (Karel Kuča nás seznámí podrobněji s prostorovými daty a novinkami v retrospektivní sídelní (geo)databázi Čech\, Moravy a Slezska CZ_Retro). \nZaregistrovat se můžete e-mailem u Anny Štoncnerové na adrese stoncnerova.anna@npu.cz.
URL:https://pagis.npu.cz/wordpress/event/ceske-kulturni-dedictvi-v-gis-v/
LOCATION:NPÚ\, GnŘ\, Valdštejnské nám. 3/162\, Praha\, 11801\, Česká republika
CATEGORIES:České kulturní dědictví v GIS,GIS Day,IISPP,MIS,PaGIS,Památkový katalog
END:VEVENT
BEGIN:VEVENT
DTSTART;VALUE=DATE:20161102
DTEND;VALUE=DATE:20161104
DTSTAMP:20260423T103409
CREATED:20160815T133041Z
LAST-MODIFIED:20160815T133325Z
UID:610-1478044800-1478217599@pagis.npu.cz
SUMMARY:GIS Esri v ČR
DESCRIPTION:Konference GIS Esri v ČR. Přihlásit se můžete i na předkonferenční seminář věnovaný ArcGIS Pro. \nOblastí GIS\, kterou chceme na konferenci představit je Památkový geografický informační systém jakožto součást IISPP ve své aktualizované podobě po spuštění Památkového katalogu. A pochopitelně také nový Geoportál památkové péče. \nDalší příspěvky editorů PaGIS vítány. Přihlásit možno přednášky\, postery\, on-line aplikace. Podrobnosti najdete na stránkách konference. \nZávazné termíny najdete zde.
URL:https://pagis.npu.cz/wordpress/event/gis-esri-v-cr/
LOCATION:Kongresové centrum Praha\, 5. května 65\, Praha\, 140 21\, Česká republika
CATEGORIES:Konference a semináře
END:VEVENT
BEGIN:VEVENT
DTSTART;VALUE=DATE:20161005
DTEND;VALUE=DATE:20161007
DTSTAMP:20260423T103409
CREATED:20160603T171753Z
LAST-MODIFIED:20161006T163543Z
UID:341-1475625600-1475798399@pagis.npu.cz
SUMMARY:Geomatika v projektech
DESCRIPTION:Na zámku Kozel se 5. – 6. října 2016\, jak je již na začátku října dobrým zvykem\, uskuteční opět konference Geomatika v projektech\, která má již tradičně jako jedno z temat kulturní dědictví. Je spojená v Joint konferenci s  konferencí ISAF (Informační systémy pro zemědělství a lesnictví) a Plan4all.\n\nNa stránkách konference najdete podrobnější informace\, letos výlučně v jazyce anglickém. Pokud jím plynně nevládnete\, nezoufejte\, prezentovat na tema Cultural heritage\, můžete (i) česky.. Zaregistrovat se můžete počínaje prvním červnem a na sepsání resumé příspěvku máte čas do 15. září.
URL:https://pagis.npu.cz/wordpress/event/geomatika-v-projektech/
LOCATION:Zámek Kozel\, Šťáhlavy 67\, Šťáhlavy\, 332 03\, Česká republika
CATEGORIES:Konference a semináře
END:VEVENT
BEGIN:VEVENT
DTSTART;VALUE=DATE:20160915
DTEND;VALUE=DATE:20160916
DTSTAMP:20260423T103409
CREATED:20160819T082444Z
LAST-MODIFIED:20160819T083745Z
UID:739-1473897600-1473983999@pagis.npu.cz
SUMMARY:GIS v plánování měst a regionů
DESCRIPTION:Česká asociace pro geoinformace (CAGI) a Vysoká škola regionálního rozvoje (VŠRR) pořádá druhý ročník konference GIS v plánování měst a regionů. Konference se uskuteční na Vysoké škole regionálního rozvoje v Praze v termínu 15. 9. 2016.  \nTémata konference \n\nÚzemně analytické podklady po 10 letech od uvedení do života\nWebové portály územního plánování\nParticipativní GIS\, VGI a crowdsourcing v územním plánování\nGIS jako podpora řešení krizových situací\nStandardy vs. kreativita v územním plánování\nZměna klimatu a její vliv na územní plánování
URL:https://pagis.npu.cz/wordpress/event/gis-v-planovani-mest-a-regionu/
LOCATION:Vysoká škola regionálního rozvoje\, Žalanského 68/54\, Praha\, 16300\, Česká republika
CATEGORIES:Konference a semináře
END:VEVENT
BEGIN:VEVENT
DTSTART;VALUE=DATE:20151119
DTEND;VALUE=DATE:20151120
DTSTAMP:20260423T103409
CREATED:20151112T185315Z
LAST-MODIFIED:20161101T165545Z
UID:476-1447891200-1447977599@pagis.npu.cz
SUMMARY:České kulturní dědictví v GIS IV
DESCRIPTION:Již čtvrtý ročník GIS Day České kulturní dědictví v GIS (viz. příspěvek  České kulturní dědictví v GIS IV). \nProgram najdete zde.
URL:https://pagis.npu.cz/wordpress/event/ceske-kulturni-dedictvi-v-gis-iv/
LOCATION:NPÚ\, GnŘ\, Valdštejnské nám. 3/162\, Praha\, 11801\, Česká republika
CATEGORIES:České kulturní dědictví v GIS,GIS Day
END:VEVENT
END:VCALENDAR