BEGIN:VCALENDAR
VERSION:2.0
PRODID:-//Pro(Pa)GIS - ECPv6.15.20//NONSGML v1.0//EN
CALSCALE:GREGORIAN
METHOD:PUBLISH
X-WR-CALNAME:Pro(Pa)GIS
X-ORIGINAL-URL:https://pagis.npu.cz/wordpress
X-WR-CALDESC:Akce na Pro(Pa)GIS
REFRESH-INTERVAL;VALUE=DURATION:PT1H
X-Robots-Tag:noindex
X-PUBLISHED-TTL:PT1H
BEGIN:VTIMEZONE
TZID:Europe/Prague
BEGIN:DAYLIGHT
TZOFFSETFROM:+0100
TZOFFSETTO:+0200
TZNAME:CEST
DTSTART:20190331T010000
END:DAYLIGHT
BEGIN:STANDARD
TZOFFSETFROM:+0200
TZOFFSETTO:+0100
TZNAME:CET
DTSTART:20191027T010000
END:STANDARD
BEGIN:DAYLIGHT
TZOFFSETFROM:+0100
TZOFFSETTO:+0200
TZNAME:CEST
DTSTART:20200329T010000
END:DAYLIGHT
BEGIN:STANDARD
TZOFFSETFROM:+0200
TZOFFSETTO:+0100
TZNAME:CET
DTSTART:20201025T010000
END:STANDARD
BEGIN:DAYLIGHT
TZOFFSETFROM:+0100
TZOFFSETTO:+0200
TZNAME:CEST
DTSTART:20210328T010000
END:DAYLIGHT
BEGIN:STANDARD
TZOFFSETFROM:+0200
TZOFFSETTO:+0100
TZNAME:CET
DTSTART:20211031T010000
END:STANDARD
END:VTIMEZONE
BEGIN:VEVENT
DTSTART;TZID=Europe/Prague:20201008T093000
DTEND;TZID=Europe/Prague:20201008T143000
DTSTAMP:20260423T184856
CREATED:20200713T104748Z
LAST-MODIFIED:20200930T101248Z
UID:3364-1602149400-1602167400@pagis.npu.cz
SUMMARY:Informační systém zeměměřictví
DESCRIPTION:Seminář  Informační systém zeměměřictví\, pořádaný Zeměměřickým úřadem\, se bude konat ve čtvrtek 8. října 2020 v konferenčním sále budovy Českého úřadu zeměměřického a katastrálního (Pod sídlištěm 1800/9\, Praha 8). Na semináři bude představena Koncepce rozvoje zeměměřictví v působnosti Zeměměřického úřadu v letech 2021 – 2025. \nRegistrace na seminář (bez účastnického poplatku) je možná ZDE. \n\nPodrobnější přehled témat a rámcový program.
URL:https://pagis.npu.cz/wordpress/event/informacni-system-zememerictvi/
LOCATION:ČÚZK – Český úřad zeměměřický a katastrální\, Pod Sídlištěm 1800/9\, Praha\, hl. m. Praha\, Česká republika
CATEGORIES:Konference a semináře
ORGANIZER;CN="%C4%8C%C3%9AZK - %C3%9Ast%C5%99edn%C3%AD archiv zem%C4%9Bm%C4%9B%C5%99ictv%C3%AD a katastru":MAILTO:martin.buchlovsky@cuzk.cz
END:VEVENT
BEGIN:VEVENT
DTSTART;TZID=Europe/Prague:20201014T120000
DTEND;TZID=Europe/Prague:20201016T123000
DTSTAMP:20260423T184856
CREATED:20200422T090513Z
LAST-MODIFIED:20210618T050425Z
UID:3329-1602676800-1602851400@pagis.npu.cz
SUMMARY:Setkání editorů paGIS\, správců MIS a dalších příznivců IISPP 2020
DESCRIPTION:Každoroční setkání editorů paGIS\, správců MIS a dalších příznivců IISPP\, letos již deváté. Uskuteční se v Pardubicích\,  v přednáškovém sále ÚOP v příhrádku 14. — 16. října. Program bude jako v předchozích letech rozdělen na tři části:\n14.10.2020 – PaGIS (a geoportál památkové péče)\n15.10.2020– Památkový katalog\, IISPP (a portál IISPP)\n16.10.2020 – MIS a Codebook \nProgram\, praktické informace a prezentace se objeví na níže uvedených odkazech. \n\nProgram\nPraktické informace\nPrezentace\n\nPřihlásit se můžete zde.\nOrganizační zajištění Anna Štoncnerová (stoncnerova.anna@npu.cz) a Svatava Podrazilová (podrazilova.svatava@npu.cz); informace k ubytování a stravování Jakub Jaroš (jaros.jakub@npu.cz). \nAktualizováno: 18/03/2026 10:19
URL:https://pagis.npu.cz/wordpress/event/setkani-editoru-pagis-spravcu-mis-a-dalsich-priznivcu-iispp-2020/
LOCATION:NPÚ ÚOP Pardubice\, Zámek 5\, Pardubice\, 53116\, Česká republika
CATEGORIES:IISPP,MIS,PaGIS,Památkový katalog,Setkání editorů PaGIS
END:VEVENT
END:VCALENDAR