BEGIN:VCALENDAR
VERSION:2.0
PRODID:-//Pro(Pa)GIS - ECPv6.15.20//NONSGML v1.0//EN
CALSCALE:GREGORIAN
METHOD:PUBLISH
X-WR-CALNAME:Pro(Pa)GIS
X-ORIGINAL-URL:https://pagis.npu.cz/wordpress
X-WR-CALDESC:Akce na Pro(Pa)GIS
REFRESH-INTERVAL;VALUE=DURATION:PT1H
X-Robots-Tag:noindex
X-PUBLISHED-TTL:PT1H
BEGIN:VTIMEZONE
TZID:Europe/Prague
BEGIN:DAYLIGHT
TZOFFSETFROM:+0100
TZOFFSETTO:+0200
TZNAME:CEST
DTSTART:20210328T010000
END:DAYLIGHT
BEGIN:STANDARD
TZOFFSETFROM:+0200
TZOFFSETTO:+0100
TZNAME:CET
DTSTART:20211031T010000
END:STANDARD
BEGIN:DAYLIGHT
TZOFFSETFROM:+0100
TZOFFSETTO:+0200
TZNAME:CEST
DTSTART:20220327T010000
END:DAYLIGHT
BEGIN:STANDARD
TZOFFSETFROM:+0200
TZOFFSETTO:+0100
TZNAME:CET
DTSTART:20221030T010000
END:STANDARD
BEGIN:DAYLIGHT
TZOFFSETFROM:+0100
TZOFFSETTO:+0200
TZNAME:CEST
DTSTART:20230326T010000
END:DAYLIGHT
BEGIN:STANDARD
TZOFFSETFROM:+0200
TZOFFSETTO:+0100
TZNAME:CET
DTSTART:20231029T010000
END:STANDARD
END:VTIMEZONE
BEGIN:VEVENT
DTSTART;TZID=Europe/Prague:20220921T123000
DTEND;TZID=Europe/Prague:20220923T123000
DTSTAMP:20260423T184855
CREATED:20220510T050923Z
LAST-MODIFIED:20220829T114002Z
UID:4424-1663763400-1663936200@pagis.npu.cz
SUMMARY:Setkání editorů paGIS\, správců MIS a dalších příznivců IISPP 2022
DESCRIPTION:Každoroční setkání editorů paGIS\, správců MIS a dalších příznivců IISPP\, letos výroční desáté. Uskuteční se v Žatci\,  v Galerii Sladovna 21. — 23. září. Program bude jako v předchozích letech rozdělen na tři části:\n21.09.2021 – MIS\, Tritius a Codebook\n22.09.2022 – IISPP a Památkový katalog\n23.09.2022 – PaGIS (a geoportál památkové péče) \nExkurze na téma „Chmelařské dědictví v odrazu architektury Žatce“ proběhne 22.09.2022 v 15:30. Předpokládaná doba exkurze bude cca 1\,5. hod. Exkurzi povede Lucie Radová\, vedoucí OPPF v Ústí nad Labem. \n\nPřihlašovací formulář\n\nProgram\, praktické informace a prezentace se postupně objeví na níže uvedených odkazech. \n\nProgram\nPraktické informace\nPrezentace\n\nOrganizační zajištění Anna Štoncnerová (stoncnerova.anna@npu.cz); informace k ubytování a stravování Tomáš Brož (broz.tomas@npu.cz). \nAktualizováno: 18/03/2026 10:19
URL:https://pagis.npu.cz/wordpress/event/setkani2022/
LOCATION:Galerie Sladovna\, Masarykova 356\, Žatec\, 438 01
CATEGORIES:IISPP,MIS,PaGIS,Památkový katalog,Setkání editorů PaGIS
END:VEVENT
END:VCALENDAR