BEGIN:VCALENDAR
VERSION:2.0
PRODID:-//Pro(Pa)GIS - ECPv6.15.20//NONSGML v1.0//EN
CALSCALE:GREGORIAN
METHOD:PUBLISH
X-WR-CALNAME:Pro(Pa)GIS
X-ORIGINAL-URL:https://pagis.npu.cz/wordpress
X-WR-CALDESC:Akce na Pro(Pa)GIS
REFRESH-INTERVAL;VALUE=DURATION:PT1H
X-Robots-Tag:noindex
X-PUBLISHED-TTL:PT1H
BEGIN:VTIMEZONE
TZID:Europe/Prague
BEGIN:DAYLIGHT
TZOFFSETFROM:+0100
TZOFFSETTO:+0200
TZNAME:CEST
DTSTART:20210328T010000
END:DAYLIGHT
BEGIN:STANDARD
TZOFFSETFROM:+0200
TZOFFSETTO:+0100
TZNAME:CET
DTSTART:20211031T010000
END:STANDARD
BEGIN:DAYLIGHT
TZOFFSETFROM:+0100
TZOFFSETTO:+0200
TZNAME:CEST
DTSTART:20220327T010000
END:DAYLIGHT
BEGIN:STANDARD
TZOFFSETFROM:+0200
TZOFFSETTO:+0100
TZNAME:CET
DTSTART:20221030T010000
END:STANDARD
BEGIN:DAYLIGHT
TZOFFSETFROM:+0100
TZOFFSETTO:+0200
TZNAME:CEST
DTSTART:20230326T010000
END:DAYLIGHT
BEGIN:STANDARD
TZOFFSETFROM:+0200
TZOFFSETTO:+0100
TZNAME:CET
DTSTART:20231029T010000
END:STANDARD
END:VTIMEZONE
BEGIN:VEVENT
DTSTART;TZID=Europe/Prague:20220907T110000
DTEND;TZID=Europe/Prague:20220907T170000
DTSTAMP:20260424T021311
CREATED:20220818T100118Z
LAST-MODIFIED:20220902T123121Z
UID:4481-1662548400-1662570000@pagis.npu.cz
SUMMARY:DLM GeoForum Meeting Prague 2022
DESCRIPTION:Národní archiv jako jeden z členů DLM Forum pořádá konferenci\, která se bude konat 7.-9. září v Praze.V rámci této akce se uskuteční 7. 9. 2022 v prostorách Národního archivu v Praze na Chodovci setkání podskupiny Geoforum\, na kterém vystoupíme s příspěvkem Heritage GIS (PaGIS) in the context of the Integrated Heritage Information System. Toto jednání rovněž přenášeno jako stream. \nPředběžný program: \n\nGeoforum 7.9.2022\nDLM forum 8.—.9.9.2022\n\nRegistrace je otevřena do 22. srpna.
URL:https://pagis.npu.cz/wordpress/event/dlm-geoforum-meeting-prague-2022/
LOCATION:Národní archiv\, Archivní 4\, Praha\, Praha\, 14900\, Czech Republic
CATEGORIES:IISPP,Konference a semináře,PaGIS
END:VEVENT
END:VCALENDAR