BEGIN:VCALENDAR
VERSION:2.0
PRODID:-//Pro(Pa)GIS - ECPv6.15.20//NONSGML v1.0//EN
CALSCALE:GREGORIAN
METHOD:PUBLISH
X-WR-CALNAME:Pro(Pa)GIS
X-ORIGINAL-URL:https://pagis.npu.cz/wordpress
X-WR-CALDESC:Akce na Pro(Pa)GIS
REFRESH-INTERVAL;VALUE=DURATION:PT1H
X-Robots-Tag:noindex
X-PUBLISHED-TTL:PT1H
BEGIN:VTIMEZONE
TZID:Europe/Prague
BEGIN:DAYLIGHT
TZOFFSETFROM:+0100
TZOFFSETTO:+0200
TZNAME:CEST
DTSTART:20210328T010000
END:DAYLIGHT
BEGIN:STANDARD
TZOFFSETFROM:+0200
TZOFFSETTO:+0100
TZNAME:CET
DTSTART:20211031T010000
END:STANDARD
BEGIN:DAYLIGHT
TZOFFSETFROM:+0100
TZOFFSETTO:+0200
TZNAME:CEST
DTSTART:20220327T010000
END:DAYLIGHT
BEGIN:STANDARD
TZOFFSETFROM:+0200
TZOFFSETTO:+0100
TZNAME:CET
DTSTART:20221030T010000
END:STANDARD
BEGIN:DAYLIGHT
TZOFFSETFROM:+0100
TZOFFSETTO:+0200
TZNAME:CEST
DTSTART:20230326T010000
END:DAYLIGHT
BEGIN:STANDARD
TZOFFSETFROM:+0200
TZOFFSETTO:+0100
TZNAME:CET
DTSTART:20231029T010000
END:STANDARD
END:VTIMEZONE
BEGIN:VEVENT
DTSTART;TZID=Europe/Prague:20220315T100000
DTEND;TZID=Europe/Prague:20220315T143000
DTSTAMP:20260423T212714
CREATED:20220211T103842Z
LAST-MODIFIED:20220314T145345Z
UID:4221-1647338400-1647354600@pagis.npu.cz
SUMMARY:Svatovalentýnské setkání 2022
DESCRIPTION:Tradiční zimní jednodenní setkání editorů PaGIS se uskuteční letos  až 15. března a to opět na půdě ÚOP NPÚ v Brně. \nHlavními body programu budou \n\nnovinky a úpravy v památkovém GISu\, geoportálu památkové péče a na AGOL\nprostorová identifikace\, čísla domovní a úpravy aplikace a widgetu pro přírůstkové body\,\ninformace o přípravě nového ISAD a UEvO\,\ndata pro ÚAP a ÚÚP\,\núkoly na rok 2022\,\nrevize KP po parcelách\,\nnovinky na úložišti a blogu Pro(Pa)GIS\,\npřipravované akce:\n– společné setkání s urbanisty k věcným a odborným revizím\,\n– výjezdní setkání 2022\,\ndiskuse.\n\nPro přihlášení na akci můžete využít registrační formulář nebo nahlásit účast přímo na gis@npu.cz. \nAkce bude možno zúčastnit se rovněž prostřednictvím ZOOMu. Virtuální čekárna bude otevřena od 9:15 zde. \nAktualizováno: 18/03/2026 10:19
URL:https://pagis.npu.cz/wordpress/event/svatovalentynske-setkani-2022/
LOCATION:NPÚ. UOP v Brně\, Náměstí Svobody 8\, Brno\, 60154\, Česká republika
CATEGORIES:Setkání editorů PaGIS
END:VEVENT
END:VCALENDAR