BEGIN:VCALENDAR
VERSION:2.0
PRODID:-//Pro(Pa)GIS - ECPv6.15.20//NONSGML v1.0//EN
CALSCALE:GREGORIAN
METHOD:PUBLISH
X-WR-CALNAME:Pro(Pa)GIS
X-ORIGINAL-URL:https://pagis.npu.cz/wordpress
X-WR-CALDESC:Akce na Pro(Pa)GIS
REFRESH-INTERVAL;VALUE=DURATION:PT1H
X-Robots-Tag:noindex
X-PUBLISHED-TTL:PT1H
BEGIN:VTIMEZONE
TZID:Europe/Prague
BEGIN:DAYLIGHT
TZOFFSETFROM:+0100
TZOFFSETTO:+0200
TZNAME:CEST
DTSTART:20200329T010000
END:DAYLIGHT
BEGIN:STANDARD
TZOFFSETFROM:+0200
TZOFFSETTO:+0100
TZNAME:CET
DTSTART:20201025T010000
END:STANDARD
BEGIN:DAYLIGHT
TZOFFSETFROM:+0100
TZOFFSETTO:+0200
TZNAME:CEST
DTSTART:20210328T010000
END:DAYLIGHT
BEGIN:STANDARD
TZOFFSETFROM:+0200
TZOFFSETTO:+0100
TZNAME:CET
DTSTART:20211031T010000
END:STANDARD
BEGIN:DAYLIGHT
TZOFFSETFROM:+0100
TZOFFSETTO:+0200
TZNAME:CEST
DTSTART:20220327T010000
END:DAYLIGHT
BEGIN:STANDARD
TZOFFSETFROM:+0200
TZOFFSETTO:+0100
TZNAME:CET
DTSTART:20221030T010000
END:STANDARD
END:VTIMEZONE
BEGIN:VEVENT
DTSTART;TZID=Europe/Prague:20210318T090000
DTEND;TZID=Europe/Prague:20210318T153000
DTSTAMP:20260423T104929
CREATED:20210308T213421Z
LAST-MODIFIED:20210309T161355Z
UID:3715-1616058000-1616081400@pagis.npu.cz
SUMMARY:Svatovalentýnské setkání 2021
DESCRIPTION:Tradiční zimní jednodenní setkání editorů PaGIS se uskuteční letos  až 18. března a to nikoliv v Brně\, nýbrž na ZOOMu. \nHlavními body programu budou \n– novinky a úpravy v památkovém GISu a geoportálu památkové péče\,\n– úkoly na rok 2021\,\n– revize KP po parcelách\,\n– prostorová identifikace v památkovém katalogu\,\n– výdej dat pro ÚAP\,\n– tzv. pozdní zápisy v kontextu editace v PaGIS a výdeje dat\,\n– prvky Prvky pro památkový katalog\,\n– návrhy chráněných území a změn jejich rozsahu\,\n– novinky na blogu Pro(Pa)GIS\,\n– výjezdní setkání 2021\,\n– diskuse. \nProgram. \nAktualizováno: 18/03/2026 10:19
URL:https://pagis.npu.cz/wordpress/event/svatovalentynske-setkani-2021/
LOCATION:ZOOM
CATEGORIES:IISPP,PaGIS,Setkání editorů PaGIS
END:VEVENT
END:VCALENDAR